BEGIN:VCALENDAR
VERSION:2.0
PRODID:-// - ECPv6.15.18//NONSGML v1.0//EN
CALSCALE:GREGORIAN
METHOD:PUBLISH
X-ORIGINAL-URL:https://kemworks.com
X-WR-CALDESC:Events for 
REFRESH-INTERVAL;VALUE=DURATION:PT1H
X-Robots-Tag:noindex
X-PUBLISHED-TTL:PT1H
BEGIN:VTIMEZONE
TZID:Africa/Nairobi
BEGIN:STANDARD
TZOFFSETFROM:+0300
TZOFFSETTO:+0300
TZNAME:EAT
DTSTART:20170101T000000
END:STANDARD
END:VTIMEZONE
BEGIN:VTIMEZONE
TZID:America/New_York
BEGIN:DAYLIGHT
TZOFFSETFROM:-0500
TZOFFSETTO:-0400
TZNAME:EDT
DTSTART:20170312T070000
END:DAYLIGHT
BEGIN:STANDARD
TZOFFSETFROM:-0400
TZOFFSETTO:-0500
TZNAME:EST
DTSTART:20171105T060000
END:STANDARD
BEGIN:DAYLIGHT
TZOFFSETFROM:-0500
TZOFFSETTO:-0400
TZNAME:EDT
DTSTART:20180311T070000
END:DAYLIGHT
BEGIN:STANDARD
TZOFFSETFROM:-0400
TZOFFSETTO:-0500
TZNAME:EST
DTSTART:20181104T060000
END:STANDARD
BEGIN:DAYLIGHT
TZOFFSETFROM:-0500
TZOFFSETTO:-0400
TZNAME:EDT
DTSTART:20190310T070000
END:DAYLIGHT
BEGIN:STANDARD
TZOFFSETFROM:-0400
TZOFFSETTO:-0500
TZNAME:EST
DTSTART:20191103T060000
END:STANDARD
END:VTIMEZONE
BEGIN:VTIMEZONE
TZID:America/Los_Angeles
BEGIN:DAYLIGHT
TZOFFSETFROM:-0800
TZOFFSETTO:-0700
TZNAME:PDT
DTSTART:20170312T100000
END:DAYLIGHT
BEGIN:STANDARD
TZOFFSETFROM:-0700
TZOFFSETTO:-0800
TZNAME:PST
DTSTART:20171105T090000
END:STANDARD
BEGIN:DAYLIGHT
TZOFFSETFROM:-0800
TZOFFSETTO:-0700
TZNAME:PDT
DTSTART:20180311T100000
END:DAYLIGHT
BEGIN:STANDARD
TZOFFSETFROM:-0700
TZOFFSETTO:-0800
TZNAME:PST
DTSTART:20181104T090000
END:STANDARD
BEGIN:DAYLIGHT
TZOFFSETFROM:-0800
TZOFFSETTO:-0700
TZNAME:PDT
DTSTART:20190310T100000
END:DAYLIGHT
BEGIN:STANDARD
TZOFFSETFROM:-0700
TZOFFSETTO:-0800
TZNAME:PST
DTSTART:20191103T090000
END:STANDARD
END:VTIMEZONE
BEGIN:VTIMEZONE
TZID:Europe/Madrid
BEGIN:DAYLIGHT
TZOFFSETFROM:+0100
TZOFFSETTO:+0200
TZNAME:CEST
DTSTART:20170326T010000
END:DAYLIGHT
BEGIN:STANDARD
TZOFFSETFROM:+0200
TZOFFSETTO:+0100
TZNAME:CET
DTSTART:20171029T010000
END:STANDARD
BEGIN:DAYLIGHT
TZOFFSETFROM:+0100
TZOFFSETTO:+0200
TZNAME:CEST
DTSTART:20180325T010000
END:DAYLIGHT
BEGIN:STANDARD
TZOFFSETFROM:+0200
TZOFFSETTO:+0100
TZNAME:CET
DTSTART:20181028T010000
END:STANDARD
BEGIN:DAYLIGHT
TZOFFSETFROM:+0100
TZOFFSETTO:+0200
TZNAME:CEST
DTSTART:20190331T010000
END:DAYLIGHT
BEGIN:STANDARD
TZOFFSETFROM:+0200
TZOFFSETTO:+0100
TZNAME:CET
DTSTART:20191027T010000
END:STANDARD
END:VTIMEZONE
BEGIN:VTIMEZONE
TZID:Europe/Athens
BEGIN:DAYLIGHT
TZOFFSETFROM:+0200
TZOFFSETTO:+0300
TZNAME:EEST
DTSTART:20170326T010000
END:DAYLIGHT
BEGIN:STANDARD
TZOFFSETFROM:+0300
TZOFFSETTO:+0200
TZNAME:EET
DTSTART:20171029T010000
END:STANDARD
BEGIN:DAYLIGHT
TZOFFSETFROM:+0200
TZOFFSETTO:+0300
TZNAME:EEST
DTSTART:20180325T010000
END:DAYLIGHT
BEGIN:STANDARD
TZOFFSETFROM:+0300
TZOFFSETTO:+0200
TZNAME:EET
DTSTART:20181028T010000
END:STANDARD
BEGIN:DAYLIGHT
TZOFFSETFROM:+0200
TZOFFSETTO:+0300
TZNAME:EEST
DTSTART:20190331T010000
END:DAYLIGHT
BEGIN:STANDARD
TZOFFSETFROM:+0300
TZOFFSETTO:+0200
TZNAME:EET
DTSTART:20191027T010000
END:STANDARD
END:VTIMEZONE
BEGIN:VTIMEZONE
TZID:America/Sao_Paulo
BEGIN:STANDARD
TZOFFSETFROM:-0200
TZOFFSETTO:-0300
TZNAME:-03
DTSTART:20170219T020000
END:STANDARD
BEGIN:DAYLIGHT
TZOFFSETFROM:-0300
TZOFFSETTO:-0200
TZNAME:-02
DTSTART:20171015T030000
END:DAYLIGHT
BEGIN:STANDARD
TZOFFSETFROM:-0200
TZOFFSETTO:-0300
TZNAME:-03
DTSTART:20180218T020000
END:STANDARD
BEGIN:DAYLIGHT
TZOFFSETFROM:-0300
TZOFFSETTO:-0200
TZNAME:-02
DTSTART:20181104T030000
END:DAYLIGHT
BEGIN:STANDARD
TZOFFSETFROM:-0200
TZOFFSETTO:-0300
TZNAME:-03
DTSTART:20190217T020000
END:STANDARD
END:VTIMEZONE
BEGIN:VEVENT
DTSTART;VALUE=DATE:20180226
DTEND;VALUE=DATE:20180301
DTSTAMP:20260423T180055
CREATED:20170822T150959Z
LAST-MODIFIED:20171206T155433Z
UID:2111-1519603200-1519862399@kemworks.com
SUMMARY:Argus Africa Fertilizer 2018 - Addis Ababa
DESCRIPTION:Improving Access and Increasing Consumption of Fertilizer and Building Meaningful Supply Chain Partnerships in Africa\nThe 9th annual Argus Africa Fertilizer conference will take place 26-28 February 2018 in Addis Ababa\, Ethiopia – the number one meeting place for the African fertilizer supply chain. This is an unrivalled networking forum – the only place to be if you want to build your business across Africa. Click here to receive event updates on the 2018 events. \nOver 520 participants from 63 countries of which 23 are African attended the 2017 event in Cape Town. At Argus Africa Fertilizer you will join a cross-section of stakeholders including government leaders\, finance providers\, NGOs\, regional distributors and global fertilizer producers. \nWhat you’ll get at this conference:\n\n520+ attendees from across the fertilizer supply chain\nThe chance to meet fertilizer producers and traders from over 65 countries of which 23 are African\n20+ hours of networking including round tables\, speed-networking and a wine tasting tour\nOpening cocktail reception and gala dinner – exclusive to registered delegates\n20+ expert speakers\n3 days of discussions with senior decision makers
URL:https://kemworks.com/event/argus-africa-fertilizer-2018-nairobi-kenya/
LOCATION:CA
CATEGORIES:Industry Events
ORGANIZER;CN="Argus":MAILTO:london@argusmedia.com
END:VEVENT
BEGIN:VEVENT
DTSTART;VALUE=DATE:20180226
DTEND;VALUE=DATE:20180302
DTSTAMP:20260423T180055
CREATED:20170822T144504Z
LAST-MODIFIED:20170822T144504Z
UID:2100-1519603200-1519948799@kemworks.com
SUMMARY:CRU Nitrogen + Syngas 2018 - Gothenburg\, Sweden
DESCRIPTION:CRU’s Nitrogen + Syngas is firmly established as the premier industry event for the nitrogen market\, having been an annual opportunity for the industry to meet\, learn and network for over 30 years. Over 700 professionals from producers\, licensors and materials and equipment providers regularly attend this essential forum for professional development and high-level networking. \nThe four-day programme delivers one of the industry’s most comprehensive technical events\, covering the full nitrogen value chain from syngas generation through to finished fertilizers. The extensive multi-stream programme showcases the latest technological developments to improve efficiency and compliance\, and with case studies from operators and on health and safety\, provides an excellent forum for engineers to share experience and develop solutions to common operational problems. \nThe commercial programme explores the impacts of key market trends\, feedstock outlooks\, project updates and supply and demand forecasts\, with presentations from respected industry figures\, and expert analysis from CRU’s Nitrogen team. \nWhether you are investing in a new plant\, revamping an existing plant\, or maintaining your plant to achieve optimal production\, safety and environmental performance\, Nitrogen + Syngas is a ‘must-attend’ event. \nNitrogen + Syngas 2018 will take place in Gothenburg from 26 February – 1 March 2018. Make sure you put this essential date in your diary and book now to secure your place. Technical staff and engineers from production companies can also benefit from a 50% discount on the registration fee.
URL:https://kemworks.com/event/cru-nitrogen-syngas-2018-gothenburg-sweden/
LOCATION:Gothia Towers\, Mässans gata 24\, Box 5184\, Göteborg\, 402 26\, Sweden
CATEGORIES:Industry Events
END:VEVENT
BEGIN:VEVENT
DTSTART;TZID=America/New_York:20180218T080000
DTEND;TZID=America/New_York:20180223T170000
DTSTAMP:20260423T180055
CREATED:20180205T154459Z
LAST-MODIFIED:20180227T135217Z
UID:2175-1518940800-1519405200@kemworks.com
SUMMARY:FAI Training Programme for Senior Maintenance Engineers in the Fertiliser Industry
DESCRIPTION:
URL:https://kemworks.com/event/fai-training-programme-for-senior-maintenance-engineers-in-fertiliser-industry/
LOCATION:Lords Plaza Surat\, t\, Delhi Gate Ring Road\, Surat\, Gujarat\, 395003\, India
CATEGORIES:Industry Events
ORGANIZER;CN="The Fertiliser Association of India (FAI)":MAILTO:secy@faidelhi.org
END:VEVENT
BEGIN:VEVENT
DTSTART;TZID=America/New_York:20180217T080000
DTEND;TZID=America/New_York:20180219T170000
DTSTAMP:20260423T180055
CREATED:20181221T145616Z
LAST-MODIFIED:20181221T145828Z
UID:2319-1518854400-1519059600@kemworks.com
SUMMARY:2019 Fluid Forum and Annual Meeting
DESCRIPTION:The Forum is the main event of the Fluid Fertilizer Foundation. FFF funded researchers present their findings to industry members and other researchers. It is a unique opportunity for researchers and industry from all over the country to interact. The year is recapped at the Annual Meeting\, awards are presented to outstanding individuals\, and the members elect board members.
URL:https://kemworks.com/event/and-annual-meeting2019-fluid-forum/
LOCATION:Embassy Suites by Hilton\, 4415 E. Paradise Village Pkwy South\, Phoenix Scottsdale\, AZ\, United States
CATEGORIES:Industry Events
ORGANIZER;CN="Fluid Fertilizer Foundation":MAILTO:fluidfertilizer@fff.kscoxmail.com
END:VEVENT
BEGIN:VEVENT
DTSTART;VALUE=DATE:20180212
DTEND;VALUE=DATE:20180215
DTSTAMP:20260423T180055
CREATED:20171206T154319Z
LAST-MODIFIED:20171206T154342Z
UID:2158-1518393600-1518652799@kemworks.com
SUMMARY:2018 TFI Annual Meeting
DESCRIPTION:The Fertilizer Institute’s 2018 Annual Meeting will be held in San Diego\, California\, February 12 – 14\, 2018.  Members from all facets of the fertilizer industry will convene to network and conduct industry business. Additionally\, TFI provides delegates the opportunity to hear from speakers who provide insight on leadership\, innovation\, the economy and other hot button topics. The Nutrients for Life Foundation will once again host its annual golf tournament.
URL:https://kemworks.com/event/2018-tfi-annual-meeting/
LOCATION:Manchester Grand Hyatt\, One Market Place\, San Diego\, CA\, 92101\, United States
CATEGORIES:Industry Events
END:VEVENT
BEGIN:VEVENT
DTSTART;VALUE=DATE:20180212
DTEND;VALUE=DATE:20180215
DTSTAMP:20260423T180055
CREATED:20170822T150804Z
LAST-MODIFIED:20170822T150804Z
UID:2109-1518393600-1518652799@kemworks.com
SUMMARY:Argus Added Value Fertilizers Europe 2018 - Madrin\, Spain
DESCRIPTION:Increasing market share in Europe with enhanced efficiency and speciality fertilizers \nThe Argus Added Value Fertilizers Europe conference will take place on 12-14 February in Madrid\, Spain. \nThe added value fertilizers market is growing rapidly in Europe – the new conference is dedicated to specific crops\, products and people in the European market and will offer a balance of technical and scientific content alongside access to commercial and business opportunities in this region. \nAt the conference you will meet attendees from across the fertilizer supply chain who are involved with enhanced efficiency fertilizers\, specialties\, water solubles\, inhibitors\, slow and controlled release micronutrients\, foliar fertilizers and biostimulants. \nReasons to attend the conference:  \n\nYour chance to attend a dedicated event for the European added value fertilizers market\nYou will have access to an excellent network of European distributors who are looking to handle the latest products\nFind new sales opportunities and increase your market share\nHear forecasts for the European market\, including product trends and developments\nand plenty of networking opportunities for you to develop your distribution line
URL:https://kemworks.com/event/argus-added-value-fertilizers-europe-2018-madrin-spain/
LOCATION:CA
CATEGORIES:Industry Events
ORGANIZER;CN="Argus":MAILTO:london@argusmedia.com
END:VEVENT
BEGIN:VEVENT
DTSTART;VALUE=DATE:20180124
DTEND;VALUE=DATE:20180127
DTSTAMP:20260423T180055
CREATED:20171206T153205Z
LAST-MODIFIED:20171206T153440Z
UID:2153-1516752000-1517011199@kemworks.com
SUMMARY:Fertilizers 2018: Eastern Europe\, the Baltic States and the Balkans
DESCRIPTION:
URL:https://kemworks.com/event/fertilizers-2018-eastern-europe-the-baltic-states-and-the-balkans/
LOCATION:Radisson Blu Park Hotel\, 10 Alexandras Avenue\, Athens\, 10682\, Greece
CATEGORIES:Industry Events
ORGANIZER;CN="World Fertilizer Market":MAILTO:conf@chem-courier.ru
END:VEVENT
BEGIN:VEVENT
DTSTART;VALUE=DATE:20180122
DTEND;VALUE=DATE:20180125
DTSTAMP:20260423T180055
CREATED:20170822T145440Z
LAST-MODIFIED:20170822T145440Z
UID:2103-1516579200-1516838399@kemworks.com
SUMMARY:Argus/CRU Fertilizer Latino Americano 2018 - São Paulo\, Brazil
DESCRIPTION:The gateway to fertilizer markets in Latin America\nArgus in conjunction with CRU\, will be hosting the Fertilizer Latino Americano 2018 Conference. The conference will be held on 22-24 January 2018 in São Paulo\, Brazil. \nFertilizer Latino Americano (FLA) brings together senior decision makers from the biggest fertilizer buyers and manufacturers in Latin America. This leading annual industry event attracts 650+ delegates from over 50 countries (representing over 300 organisations) and offers a major networking platform to those involved in the Latin American fertilizer industry. \nDon’t miss the opportunity to join senior decision makers from the biggest fertilizer buyers and manufacturers in Latin America at FLA 2018. \nJoin the biggest fertilizer networking event in Latin America in the region’s biggest market\n\nExamine trends in fertilizer consumption across Latin America and identify high growth markets\nEvaluate farmer economics and the outlook for demand in Brazil in the short and medium term\nAnalyse the global supply and demand balance for fertilizers and the implications for buyers in Latin America\nAssess consumption growth prospects in speciality and enhanced efficiency fertilizers\n\nLatest confirmed speakers include:\n\nMarcelo F. Guimaraes\, Secretariat of Agricultural Policy\, Ministry of Agriculture\, Livestock and Food Supply\, Brazil \nMaría Beatriz Giraudo\, Member of the Global Farmer Network and Policy Coordination for Sustainable Development\, Ministry of Agro-Industry\, Argentina \nMaría Fernanda González Sanjuan\, Executive Director\, FERTILIZAR Asociación Civil\nJosé Alfredo García\, Director General\, America\, Tradecorp \nFrances Wollmer\, Principal Consultant\, Fertilizers\, Argus\nAlan Bojanic\, Brazil Representative\, FAO Brasil\nDr Ricardo Melgar\, Industry Consultant\, INTA\nLeonn Lauterbach\, Managing Partner\, Fluid Fert International\nClaudio Pitchon\, Head of Latin America l Natural Resources\, Mizuho Bank\nMartín Torres Duggan\, Nutrient Manager and Researcher\, Tecnoagro\nGuilherme Soria Bastos Filho\, Agricultural Markets Expert\, GSBF Consulting\nDirceu Mattos Jr\, Scientific Researcher\, Mineral Nutrition of Plants\, International Society of Citriculture\nDr. Luís Prochnow\, Brazil Program Director\, IPNI\nDr. Cleiton Sequeira\, Manager\, Agronomy & Specialty Sales\, Koch Agronomic Services\nClaira Lloyd\, Editor\, Sulphur\, Argus\nEnrique Hahn\, Agriculture Consultant and Researcher\, Sustentap and Advisor\, Ministry of Agriculture\, Paraguay\n\nNew for 2018!\nFollowing the success in Europe and Asia\, the Micronutrients Forum will take place in Latin America for the first time. Taking place on Monday 22 January\, delegates will benefit from all the agronomic and commercial insight you need to leverage your position in this growing market. \nSimultaneous translation English/Spanish/Portuguese | Traducción simultánea inglés/portugués/español | Tradução simultânea inglês/espanhol/português\n 
URL:https://kemworks.com/event/arguscru-fertilizer-latino-americano-2018-sao-paulo-brazil/
LOCATION:Renaissance Sao Paulo Hotel\, Alameda Santos\, 2233\, Sao Paulo\, Sao Paulo\, 01419-002\, Brazil
CATEGORIES:Industry Events
END:VEVENT
END:VCALENDAR